BEGIN:VCALENDAR
VERSION:2.0
PRODID:-//Reel Chesapeake - ECPv6.15.20//NONSGML v1.0//EN
CALSCALE:GREGORIAN
METHOD:PUBLISH
X-ORIGINAL-URL:https://reelchesapeake.com
X-WR-CALDESC:Events for Reel Chesapeake
REFRESH-INTERVAL;VALUE=DURATION:PT1H
X-Robots-Tag:noindex
X-PUBLISHED-TTL:PT1H
BEGIN:VTIMEZONE
TZID:America/New_York
BEGIN:DAYLIGHT
TZOFFSETFROM:-0500
TZOFFSETTO:-0400
TZNAME:EDT
DTSTART:20230312T070000
END:DAYLIGHT
BEGIN:STANDARD
TZOFFSETFROM:-0400
TZOFFSETTO:-0500
TZNAME:EST
DTSTART:20231105T060000
END:STANDARD
BEGIN:DAYLIGHT
TZOFFSETFROM:-0500
TZOFFSETTO:-0400
TZNAME:EDT
DTSTART:20240310T070000
END:DAYLIGHT
BEGIN:STANDARD
TZOFFSETFROM:-0400
TZOFFSETTO:-0500
TZNAME:EST
DTSTART:20241103T060000
END:STANDARD
BEGIN:DAYLIGHT
TZOFFSETFROM:-0500
TZOFFSETTO:-0400
TZNAME:EDT
DTSTART:20250309T070000
END:DAYLIGHT
BEGIN:STANDARD
TZOFFSETFROM:-0400
TZOFFSETTO:-0500
TZNAME:EST
DTSTART:20251102T060000
END:STANDARD
END:VTIMEZONE
BEGIN:VEVENT
DTSTART;TZID=America/New_York:20240921T120000
DTEND;TZID=America/New_York:20240921T190000
DTSTAMP:20260422T183109
CREATED:20240619T152027Z
LAST-MODIFIED:20240619T152027Z
UID:4407-1726920000-1726945200@reelchesapeake.com
SUMMARY:Rappahannock Riverfest
DESCRIPTION:It’s the party of the year to raise funds for Friends of the Rappahannock River. Enjoy a day of crab feasting\, drinks\, music\, and more all to benefit the conservation work\, programs\, and education of FOR. \nOn the banks of the Rappahannock River in Downtown\, Fredericksburg\, Virginia. \nSave the Date: This year’s Riverfest is September 21st. Tickets on sale July 15th. \nClick here for full details. 
URL:https://reelchesapeake.com/event/rappahannock-riverfest/
CATEGORIES:Charity,Festival,Food
ATTACH;FMTTYPE=image/png:https://reelchesapeake.com/wp-content/uploads/2024/06/friendsofrappahannock.png
END:VEVENT
END:VCALENDAR