BEGIN:VCALENDAR
VERSION:2.0
PRODID:-//Reel Chesapeake - ECPv6.15.20//NONSGML v1.0//EN
CALSCALE:GREGORIAN
METHOD:PUBLISH
X-ORIGINAL-URL:https://reelchesapeake.com
X-WR-CALDESC:Events for Reel Chesapeake
REFRESH-INTERVAL;VALUE=DURATION:PT1H
X-Robots-Tag:noindex
X-PUBLISHED-TTL:PT1H
BEGIN:VTIMEZONE
TZID:America/New_York
BEGIN:DAYLIGHT
TZOFFSETFROM:-0500
TZOFFSETTO:-0400
TZNAME:EDT
DTSTART:20230312T070000
END:DAYLIGHT
BEGIN:STANDARD
TZOFFSETFROM:-0400
TZOFFSETTO:-0500
TZNAME:EST
DTSTART:20231105T060000
END:STANDARD
BEGIN:DAYLIGHT
TZOFFSETFROM:-0500
TZOFFSETTO:-0400
TZNAME:EDT
DTSTART:20240310T070000
END:DAYLIGHT
BEGIN:STANDARD
TZOFFSETFROM:-0400
TZOFFSETTO:-0500
TZNAME:EST
DTSTART:20241103T060000
END:STANDARD
BEGIN:DAYLIGHT
TZOFFSETFROM:-0500
TZOFFSETTO:-0400
TZNAME:EDT
DTSTART:20250309T070000
END:DAYLIGHT
BEGIN:STANDARD
TZOFFSETFROM:-0400
TZOFFSETTO:-0500
TZNAME:EST
DTSTART:20251102T060000
END:STANDARD
END:VTIMEZONE
BEGIN:VEVENT
DTSTART;TZID=America/New_York:20240428T080000
DTEND;TZID=America/New_York:20240428T150000
DTSTAMP:20260424T134049
CREATED:20240403T201843Z
LAST-MODIFIED:20240403T201843Z
UID:4052-1714291200-1714316400@reelchesapeake.com
SUMMARY:Eastern Shore Skeet Shoot
DESCRIPTION:Supports Coastal Conservation Association Maryland. At Talbot Rod and Gun Club\, 9226 Chapel Road\, Easton\, MD. $125/person; $500/4-person team. \nClick here for full details.
URL:https://reelchesapeake.com/event/eastern-shore-skeet-shoot/
CATEGORIES:Charity,Outdoors
ATTACH;FMTTYPE=image/png:https://reelchesapeake.com/wp-content/uploads/2024/04/2024-skeet-shoot-thumb-e1712175498667.png
END:VEVENT
END:VCALENDAR