BEGIN:VCALENDAR
VERSION:2.0
PRODID:-//Reel Chesapeake - ECPv6.15.20//NONSGML v1.0//EN
CALSCALE:GREGORIAN
METHOD:PUBLISH
X-ORIGINAL-URL:https://reelchesapeake.com
X-WR-CALDESC:Events for Reel Chesapeake
REFRESH-INTERVAL;VALUE=DURATION:PT1H
X-Robots-Tag:noindex
X-PUBLISHED-TTL:PT1H
BEGIN:VTIMEZONE
TZID:America/New_York
BEGIN:DAYLIGHT
TZOFFSETFROM:-0500
TZOFFSETTO:-0400
TZNAME:EDT
DTSTART:20240310T070000
END:DAYLIGHT
BEGIN:STANDARD
TZOFFSETFROM:-0400
TZOFFSETTO:-0500
TZNAME:EST
DTSTART:20241103T060000
END:STANDARD
BEGIN:DAYLIGHT
TZOFFSETFROM:-0500
TZOFFSETTO:-0400
TZNAME:EDT
DTSTART:20250309T070000
END:DAYLIGHT
BEGIN:STANDARD
TZOFFSETFROM:-0400
TZOFFSETTO:-0500
TZNAME:EST
DTSTART:20251102T060000
END:STANDARD
BEGIN:DAYLIGHT
TZOFFSETFROM:-0500
TZOFFSETTO:-0400
TZNAME:EDT
DTSTART:20260308T070000
END:DAYLIGHT
BEGIN:STANDARD
TZOFFSETFROM:-0400
TZOFFSETTO:-0500
TZNAME:EST
DTSTART:20261101T060000
END:STANDARD
END:VTIMEZONE
BEGIN:VEVENT
DTSTART;TZID=America/New_York:20250727T053000
DTEND;TZID=America/New_York:20250727T170000
DTSTAMP:20260421T130453
CREATED:20230714T133713Z
LAST-MODIFIED:20250628T000741Z
UID:2264-1753594200-1753635600@reelchesapeake.com
SUMMARY:2025 Anglers White Perch Open
DESCRIPTION:Hosted by Anglers Sport Center. 10th Anniversary of the acclaimed\, local\, fun tournament. Pre-registration required! \n5:30 am: Fishing Starts!\nNo need to check in first. Get your lines in the\nwater where ever you choose to fish! \n11 am-3 pm: Weigh-ins at Podickory Point\nEach Angler will weigh in three fish. You must be in line for weigh ins by 2:30. \n12 pm-5 pm: After Party at Podickory Point!\nIncludes a DJ\, Fried White Perch\, catering from Mission BBQ\, Water\, Beer and\ndrinks for kids! \n4 pm: Awards Ceremony\nPrizes will be awarded for Adult 1st\, 2nd and 3rd place\, Youth 1st\, 2nd and 3rd place (16 and under) and Longest Perch! \nClick here for full details.
URL:https://reelchesapeake.com/event/2023-white-perch-open/
LOCATION:Podickory Point Yacht Club\, 2116 Bay Front Terrace\, Annapolis\, MD\, 21409\, United States
CATEGORIES:Family,Tournament
ATTACH;FMTTYPE=image/png:https://reelchesapeake.com/wp-content/uploads/2023/07/whiteperchopen25.png
END:VEVENT
END:VCALENDAR