BEGIN:VCALENDAR
VERSION:2.0
PRODID:-//Reel Chesapeake - ECPv6.15.20//NONSGML v1.0//EN
CALSCALE:GREGORIAN
METHOD:PUBLISH
X-ORIGINAL-URL:https://reelchesapeake.com
X-WR-CALDESC:Events for Reel Chesapeake
REFRESH-INTERVAL;VALUE=DURATION:PT1H
X-Robots-Tag:noindex
X-PUBLISHED-TTL:PT1H
BEGIN:VTIMEZONE
TZID:America/New_York
BEGIN:DAYLIGHT
TZOFFSETFROM:-0500
TZOFFSETTO:-0400
TZNAME:EDT
DTSTART:20240310T070000
END:DAYLIGHT
BEGIN:STANDARD
TZOFFSETFROM:-0400
TZOFFSETTO:-0500
TZNAME:EST
DTSTART:20241103T060000
END:STANDARD
BEGIN:DAYLIGHT
TZOFFSETFROM:-0500
TZOFFSETTO:-0400
TZNAME:EDT
DTSTART:20250309T070000
END:DAYLIGHT
BEGIN:STANDARD
TZOFFSETFROM:-0400
TZOFFSETTO:-0500
TZNAME:EST
DTSTART:20251102T060000
END:STANDARD
BEGIN:DAYLIGHT
TZOFFSETFROM:-0500
TZOFFSETTO:-0400
TZNAME:EDT
DTSTART:20260308T070000
END:DAYLIGHT
BEGIN:STANDARD
TZOFFSETFROM:-0400
TZOFFSETTO:-0500
TZNAME:EST
DTSTART:20261101T060000
END:STANDARD
END:VTIMEZONE
BEGIN:VEVENT
DTSTART;TZID=America/New_York:20250501T173000
DTEND;TZID=America/New_York:20250501T190000
DTSTAMP:20260421T163328
CREATED:20240227T214644Z
LAST-MODIFIED:20250409T163008Z
UID:3867-1746120600-1746126000@reelchesapeake.com
SUMMARY:State of the Rivers: Chester
DESCRIPTION:ShoreRivers is pleased to announce the return of our highly anticipated State of the Rivers events—a series of free presentations held each spring to inform public about the current state of our Eastern Shore waterways. \nEach year\, between April—October\, ShoreRivers’ professional Riverkeepers conduct weekly tidal sampling of more than 60 sites from Cecilton to Cambridge\, then test for multiple scientific water quality parameters including dissolved oxygen\, nutrient pollution\, algae\, and clarity. These indicators reveal the overall health of our waterways and our progress toward protecting and restoring our local rivers. \nThe public is invited to learn more about the results of this testing\, with a focus on the Chester River at this State of the Rivers presentation\, hosted by Chester Riverkeeper Annie Richards. Light refreshments\, including local oysters\, will be served. \nDoors open at 5:30pm for a reception of wine\, beer\, and light appetizers. The formal presentations will begin at 6pm. This event is free—no registration needed! \nClick here to learn more about this event.
URL:https://reelchesapeake.com/event/state-of-the-rivers-chester/
LOCATION:Cult Classic Brewing\, 1169 Shopping Center Road\, Stevensville\, MD\, 21666\, United States
CATEGORIES:Special Event
ATTACH;FMTTYPE=image/png:https://reelchesapeake.com/wp-content/uploads/2024/02/shorerivers_eventslogo.png
END:VEVENT
BEGIN:VEVENT
DTSTART;TZID=America/New_York:20250508T173000
DTEND;TZID=America/New_York:20250508T190000
DTSTAMP:20260421T163328
CREATED:20240227T214353Z
LAST-MODIFIED:20250409T162832Z
UID:3864-1746725400-1746730800@reelchesapeake.com
SUMMARY:State of the Rivers: Miles\, Wye & Eastern Bay
DESCRIPTION:ShoreRivers is pleased to announce the return of our highly anticipated State of the Rivers events—a series of free presentations held each spring to inform public about the current state of our Eastern Shore waterways. \nEach year\, between April—October\, ShoreRivers’ professional Riverkeepers conduct weekly tidal sampling of more than 60 sites from Cecilton to Cambridge\, then test for multiple scientific water quality parameters including dissolved oxygen\, nutrient pollution\, algae\, and clarity. These indicators reveal the overall health of our waterways and our progress toward protecting and restoring our local rivers. \nThe public is invited to learn more about the results of this testing\, with a focus on the Miles and Wye rivers and Eastern Bay at this State of the Rivers presentation\, hosted by Miles-Wye Riverkeeper Ben Ford. Light refreshments\, including local oysters\, will be served. \nDoors open at 5:30pm for a reception of wine\, beer\, and light appetizers. The formal presentations will begin at 6pm. This event is free—no registration needed! \nClick here to learn more about this event.
URL:https://reelchesapeake.com/event/state-of-the-rivers-miles-wye-eastern-bay/
LOCATION:Chesapeake Bay Maritime Museum\, 213 N. Talbot Street\, St. Michaels\, MD\, 21663\, United States
CATEGORIES:Special Event
ATTACH;FMTTYPE=image/png:https://reelchesapeake.com/wp-content/uploads/2024/02/shorerivers_eventslogo.png
END:VEVENT
BEGIN:VEVENT
DTSTART;TZID=America/New_York:20250515T173000
DTEND;TZID=America/New_York:20250515T193000
DTSTAMP:20260421T163328
CREATED:20250506T180051Z
LAST-MODIFIED:20250506T180051Z
UID:5183-1747330200-1747337400@reelchesapeake.com
SUMMARY:CCA Maryland Angler's Night Out - Speckled Trout Tips
DESCRIPTION:Join CCA Maryland at the West End Grill in Annapolis for Angler’s Night Out presented by Waterfront Marine for a talk by St. Mary’s County’s finest Mr. (former) captain Dennis Fleming. \nGather at 5:30pm w/ a talk and Q&A about everything you wanted to know about Speckled Trout. \nThis event is free and open to the public and seating is first come first serve\, so arrive early and enjoy some great West End Grill offerings before the talks begin. \nClick here for full details. 
URL:https://reelchesapeake.com/event/cca-maryland-anglers-night-out-speckled-trout-tips/
LOCATION:West End Grill\, 2049 West Street\, Annapolis\, MD\, 21401\, United States
CATEGORIES:Special Event
ATTACH;FMTTYPE=image/jpeg:https://reelchesapeake.com/wp-content/uploads/2025/05/ccamd051525anglersnightout.jpg
END:VEVENT
END:VCALENDAR