BEGIN:VCALENDAR
VERSION:2.0
PRODID:-//Reel Chesapeake - ECPv6.15.20//NONSGML v1.0//EN
CALSCALE:GREGORIAN
METHOD:PUBLISH
X-WR-CALNAME:Reel Chesapeake
X-ORIGINAL-URL:https://reelchesapeake.com
X-WR-CALDESC:Events for Reel Chesapeake
REFRESH-INTERVAL;VALUE=DURATION:PT1H
X-Robots-Tag:noindex
X-PUBLISHED-TTL:PT1H
BEGIN:VTIMEZONE
TZID:America/New_York
BEGIN:DAYLIGHT
TZOFFSETFROM:-0500
TZOFFSETTO:-0400
TZNAME:EDT
DTSTART:20230312T070000
END:DAYLIGHT
BEGIN:STANDARD
TZOFFSETFROM:-0400
TZOFFSETTO:-0500
TZNAME:EST
DTSTART:20231105T060000
END:STANDARD
BEGIN:DAYLIGHT
TZOFFSETFROM:-0500
TZOFFSETTO:-0400
TZNAME:EDT
DTSTART:20240310T070000
END:DAYLIGHT
BEGIN:STANDARD
TZOFFSETFROM:-0400
TZOFFSETTO:-0500
TZNAME:EST
DTSTART:20241103T060000
END:STANDARD
BEGIN:DAYLIGHT
TZOFFSETFROM:-0500
TZOFFSETTO:-0400
TZNAME:EDT
DTSTART:20250309T070000
END:DAYLIGHT
BEGIN:STANDARD
TZOFFSETFROM:-0400
TZOFFSETTO:-0500
TZNAME:EST
DTSTART:20251102T060000
END:STANDARD
END:VTIMEZONE
BEGIN:VEVENT
DTSTART;TZID=America/New_York:20241101T070000
DTEND;TZID=America/New_York:20241103T200000
DTSTAMP:20260422T014816
CREATED:20240726T005238Z
LAST-MODIFIED:20240726T005238Z
UID:4528-1730444400-1730664000@reelchesapeake.com
SUMMARY:Sultana Downrigging Weekend Festival
DESCRIPTION:The Sultana Education Foundation’s annual Downrigging Weekend Festival will return to the historic port of Chestertown\, Maryland the weekend of November 1-3\, 2024.  Presented in partnership with Mastercard\, the festival will feature one of the largest annual gatherings of wooden ships in North America\, a full-throated Bluegrass festival\, lectures\, fireworks\, exhibits\, and more.  This unique combination has earned Downrigging the reputation as one of the most distinctive waterfront festivals in America\, attracting more than 10\,000 visitors annually.  Proceeds from the festival support Sultana’s environmental literacy programs as well as educational programs operated by the nonprofit ships participating in the festival. \nClick here for complete details.
URL:https://reelchesapeake.com/event/sultana-downrigging-weekend-festival/
LOCATION:Chestertown\, Chestertown\, MD\, 21620\, United States
CATEGORIES:Festival
ATTACH;FMTTYPE=image/jpeg:https://reelchesapeake.com/wp-content/uploads/2024/07/sultanadownriggingfestival-e1721955127363.jpg
END:VEVENT
BEGIN:VEVENT
DTSTART;TZID=America/New_York:20241102T070000
DTEND;TZID=America/New_York:20241102T120000
DTSTAMP:20260422T014816
CREATED:20240828T004305Z
LAST-MODIFIED:20240828T004305Z
UID:4736-1730530800-1730548800@reelchesapeake.com
SUMMARY:ACSA 1st Annual Nautical & Fishing Flea Market
DESCRIPTION:Organized by the Atlantic Coast Sportfishing Association (ACSA). Inshore\, offshore\, freshwater new and used equipment; rods\, reels\, tackle\, and more! Cash food and bar available. At the American Legion Synepuxent Post #166\, 2308 Philadelphia Avenue\, Ocean City\, Maryland 21842. \nCheck group’s Facebook page for updates.
URL:https://reelchesapeake.com/event/acsa-1st-annual-nautical-fishing-flea-market/
CATEGORIES:Expo
ATTACH;FMTTYPE=image/jpeg:https://reelchesapeake.com/wp-content/uploads/2024/08/atlanticcoastsportfishingassoc-e1724805736956.jpg
END:VEVENT
BEGIN:VEVENT
DTSTART;TZID=America/New_York:20241102T070000
DTEND;TZID=America/New_York:20241102T150000
DTSTAMP:20260422T014816
CREATED:20231023T165006Z
LAST-MODIFIED:20241001T161636Z
UID:2997-1730530800-1730559600@reelchesapeake.com
SUMMARY:Madness on the Marshyhope
DESCRIPTION:Madness on the Marshy Hope Blue Catfish Fishing Tournament happens the first Saturday in November. Blue Catfish are an invasive species to our Marshy Hope and a danger to our native species. Do your part! Catch and Eat this tasty\, invasive fish! \nThis event includes a food festival\, youth & family fishing event and fishing tournament. \nClick here for full details.  \nOr click here to directly register for the event.
URL:https://reelchesapeake.com/event/madness-on-the-marshyhope/
LOCATION:Federalsburg Marina and Recreational Park\, 2021 Federalsburg Highway\, Federalsburg\, MD\, 21632\, United States
CATEGORIES:Family,Special Event,Tournament
ATTACH;FMTTYPE=image/png:https://reelchesapeake.com/wp-content/uploads/2023/10/madnessonmarshyhope24.png
END:VEVENT
BEGIN:VEVENT
DTSTART;TZID=America/New_York:20241125T190000
DTEND;TZID=America/New_York:20241125T210000
DTSTAMP:20260422T014816
CREATED:20241120T221130Z
LAST-MODIFIED:20241120T221130Z
UID:4890-1732561200-1732568400@reelchesapeake.com
SUMMARY:SRA John Wright Speaker Series: Jennifer Wasenki
DESCRIPTION:Hosted by the Severn River Association at Cafe Mezzanotte restaurant in Severna Park\, 7 p.m. on November 25th\, the John Wright Speaker Series features local conservation and outdoors experts presenting on a variety of topics relating to the health of the Severn River and Chesapeake Bay. Presentations are free\, registration required. In person or virtual option available. Click here to register for event. \nSpeaker Bio: Jennifer Wazenski is an environmental and natural resources attorney with more than 30 years’ experience representing property owners\, businesses\, and government agencies. She has litigated and advised on many federal and State regulatory programs and led teams of attorneys in the delivery of coordinated\, strategic legal services. \nPresentation Summary: This presentation will strive to provide community members with a toolkit for effective engagement across the various forums and processes that shape environmental and natural resource decisions at the county and state levels. Focusing on strategies and tactics that apply broadly—from public hearings and permitting processes to regulatory rulemaking and local planning—participants will learn how to structure their input to be organized\, strategic\, and impactful.
URL:https://reelchesapeake.com/event/sra-john-wright-speaker-series-jennifer-wasenki/
CATEGORIES:Special Event,Virtual
ATTACH;FMTTYPE=image/png:https://reelchesapeake.com/wp-content/uploads/2024/02/sralogoforevents-e1708726153854.png
END:VEVENT
END:VCALENDAR