BEGIN:VCALENDAR
VERSION:2.0
PRODID:-//Reel Chesapeake - ECPv6.15.20//NONSGML v1.0//EN
CALSCALE:GREGORIAN
METHOD:PUBLISH
X-ORIGINAL-URL:https://reelchesapeake.com
X-WR-CALDESC:Events for Reel Chesapeake
REFRESH-INTERVAL;VALUE=DURATION:PT1H
X-Robots-Tag:noindex
X-PUBLISHED-TTL:PT1H
BEGIN:VTIMEZONE
TZID:America/New_York
BEGIN:DAYLIGHT
TZOFFSETFROM:-0500
TZOFFSETTO:-0400
TZNAME:EDT
DTSTART:20240310T070000
END:DAYLIGHT
BEGIN:STANDARD
TZOFFSETFROM:-0400
TZOFFSETTO:-0500
TZNAME:EST
DTSTART:20241103T060000
END:STANDARD
BEGIN:DAYLIGHT
TZOFFSETFROM:-0500
TZOFFSETTO:-0400
TZNAME:EDT
DTSTART:20250309T070000
END:DAYLIGHT
BEGIN:STANDARD
TZOFFSETFROM:-0400
TZOFFSETTO:-0500
TZNAME:EST
DTSTART:20251102T060000
END:STANDARD
BEGIN:DAYLIGHT
TZOFFSETFROM:-0500
TZOFFSETTO:-0400
TZNAME:EDT
DTSTART:20260308T070000
END:DAYLIGHT
BEGIN:STANDARD
TZOFFSETFROM:-0400
TZOFFSETTO:-0500
TZNAME:EST
DTSTART:20261101T060000
END:STANDARD
BEGIN:DAYLIGHT
TZOFFSETFROM:-0500
TZOFFSETTO:-0400
TZNAME:EDT
DTSTART:20270314T070000
END:DAYLIGHT
BEGIN:STANDARD
TZOFFSETFROM:-0400
TZOFFSETTO:-0500
TZNAME:EST
DTSTART:20271107T060000
END:STANDARD
END:VTIMEZONE
BEGIN:VEVENT
DTSTART;TZID=America/New_York:20251101T000000
DTEND;TZID=America/New_York:20260228T235900
DTSTAMP:20260421T101830
CREATED:20231012T204649Z
LAST-MODIFIED:20251025T145316Z
UID:2918-1761955200-1772323140@reelchesapeake.com
SUMMARY:CCA Maryland Pickerel Championship
DESCRIPTION:Acclaimed catch-photo-release tournament starring the toothy pickerel\, yellow perch\, and several other species. Organized and benefiting Coastal Conservation Association Maryland. All MD\, DC\, and DE tidal and non-tidal waters are open to fishing. Four months long—November 1st through 11:59 p.m.\, February 28th. Awards and celebration party to be held after the tournament at a location TBD. \nSign up for the 2025-2026 CCA Maryland Pickerel Championship and have four months of great fishing to catch\, photo and release your way to some great trophies & other prizes.  You may register any time before the tournament ends. \nClick here for full details. 
URL:https://reelchesapeake.com/event/cca-maryland-pickerel-championship/
CATEGORIES:Tournament
ATTACH;FMTTYPE=image/png:https://reelchesapeake.com/wp-content/uploads/2023/10/pickerel-logo-25-26.png
END:VEVENT
BEGIN:VEVENT
DTSTART;TZID=America/New_York:20251114T080000
DTEND;TZID=America/New_York:20251116T170000
DTSTAMP:20260421T101830
CREATED:20231011T183343Z
LAST-MODIFIED:20251107T183518Z
UID:2896-1763107200-1763312400@reelchesapeake.com
SUMMARY:Waterfowl Festival
DESCRIPTION:For three days every November\, between 18\,000 and 20\,000 visitors descend on the town of Easton\, Maryland\, and discover the best of local wildlife\, nature\, art\, heritage\, food\, and fun at the Waterfowl Festival. While strolling along the lovely streets of Easton\, visitors can discover the town and a tradition that has been going strong for generations. Plenty of artwork\, crafts\, and waterfowl decoys for sale. Live demonstrations\, kids activities\, dock dogs contest\, waterfowl calling championship\, and food and drink vendors. \nClick here for full details.
URL:https://reelchesapeake.com/event/waterfowl-festival/
LOCATION:Easton\, Easton\, MD\, United States
CATEGORIES:Festival,Outdoors
ATTACH;FMTTYPE=image/png:https://reelchesapeake.com/wp-content/uploads/2023/10/Waterfowl-Festival-Logo-Blue-1-e1762540483549.png
END:VEVENT
END:VCALENDAR