BEGIN:VCALENDAR
VERSION:2.0
PRODID:-//Reel Chesapeake - ECPv6.15.20//NONSGML v1.0//EN
CALSCALE:GREGORIAN
METHOD:PUBLISH
X-WR-CALNAME:Reel Chesapeake
X-ORIGINAL-URL:https://reelchesapeake.com
X-WR-CALDESC:Events for Reel Chesapeake
REFRESH-INTERVAL;VALUE=DURATION:PT1H
X-Robots-Tag:noindex
X-PUBLISHED-TTL:PT1H
BEGIN:VTIMEZONE
TZID:America/New_York
BEGIN:DAYLIGHT
TZOFFSETFROM:-0500
TZOFFSETTO:-0400
TZNAME:EDT
DTSTART:20240310T070000
END:DAYLIGHT
BEGIN:STANDARD
TZOFFSETFROM:-0400
TZOFFSETTO:-0500
TZNAME:EST
DTSTART:20241103T060000
END:STANDARD
BEGIN:DAYLIGHT
TZOFFSETFROM:-0500
TZOFFSETTO:-0400
TZNAME:EDT
DTSTART:20250309T070000
END:DAYLIGHT
BEGIN:STANDARD
TZOFFSETFROM:-0400
TZOFFSETTO:-0500
TZNAME:EST
DTSTART:20251102T060000
END:STANDARD
BEGIN:DAYLIGHT
TZOFFSETFROM:-0500
TZOFFSETTO:-0400
TZNAME:EDT
DTSTART:20260308T070000
END:DAYLIGHT
BEGIN:STANDARD
TZOFFSETFROM:-0400
TZOFFSETTO:-0500
TZNAME:EST
DTSTART:20261101T060000
END:STANDARD
END:VTIMEZONE
BEGIN:VEVENT
DTSTART;TZID=America/New_York:20250904T180000
DTEND;TZID=America/New_York:20250904T200000
DTSTAMP:20260421T114827
CREATED:20230831T124831Z
LAST-MODIFIED:20250723T123916Z
UID:2639-1757008800-1757016000@reelchesapeake.com
SUMMARY:The Taste (Pennsylvania) - Alliance for the Chesapeake Bay Fundraiser
DESCRIPTION:The Taste is a celebration of our Chesapeake Bay watershed\, offering live music\, locally-inspired eats\, awards\, silent auctions\, and comradery. As our largest annual fundraiser\, the Taste aims to bring together like-minded corporations and conservationists within three distinct Chesapeake Bay watershed communities. Benefits Alliance for the Chesapeake Bay. \nJoin the Alliance at Railroad House Inn for the 2025 Taste in Pennsylvania as we celebrate the Chesapeake Bay watershed and our Pennsylvania Watershed Champion and Frances Flanigan Environmental Leadership award recipient. \nIn addition to our awardee recognition\, The Taste in Pennsylvania will offer live music\, locally-inspired\, seasonal foods\, and much camaraderie. As our largest annual fundraiser\, the Taste aims to bring together like-minded corporations and conservationists within three distinct Chesapeake Bay watershed communities. \nLearn more at allianceforthebay.org/TheTaste.
URL:https://reelchesapeake.com/event/the-taste-pennsylvania/
CATEGORIES:Charity,Food
ATTACH;FMTTYPE=image/jpeg:https://reelchesapeake.com/wp-content/uploads/2023/06/alliance_logo-e1722605682242.jpg
END:VEVENT
END:VCALENDAR