BEGIN:VCALENDAR
VERSION:2.0
PRODID:-//Reel Chesapeake - ECPv6.15.20//NONSGML v1.0//EN
CALSCALE:GREGORIAN
METHOD:PUBLISH
X-ORIGINAL-URL:https://reelchesapeake.com
X-WR-CALDESC:Events for Reel Chesapeake
REFRESH-INTERVAL;VALUE=DURATION:PT1H
X-Robots-Tag:noindex
X-PUBLISHED-TTL:PT1H
BEGIN:VTIMEZONE
TZID:America/New_York
BEGIN:DAYLIGHT
TZOFFSETFROM:-0500
TZOFFSETTO:-0400
TZNAME:EDT
DTSTART:20240310T070000
END:DAYLIGHT
BEGIN:STANDARD
TZOFFSETFROM:-0400
TZOFFSETTO:-0500
TZNAME:EST
DTSTART:20241103T060000
END:STANDARD
BEGIN:DAYLIGHT
TZOFFSETFROM:-0500
TZOFFSETTO:-0400
TZNAME:EDT
DTSTART:20250309T070000
END:DAYLIGHT
BEGIN:STANDARD
TZOFFSETFROM:-0400
TZOFFSETTO:-0500
TZNAME:EST
DTSTART:20251102T060000
END:STANDARD
BEGIN:DAYLIGHT
TZOFFSETFROM:-0500
TZOFFSETTO:-0400
TZNAME:EDT
DTSTART:20260308T070000
END:DAYLIGHT
BEGIN:STANDARD
TZOFFSETFROM:-0400
TZOFFSETTO:-0500
TZNAME:EST
DTSTART:20261101T060000
END:STANDARD
END:VTIMEZONE
BEGIN:VEVENT
DTSTART;TZID=America/New_York:20250601T090000
DTEND;TZID=America/New_York:20250601T150000
DTSTAMP:20260421T163216
CREATED:20250506T174817Z
LAST-MODIFIED:20250506T174817Z
UID:5178-1748768400-1748790000@reelchesapeake.com
SUMMARY:2025 Annapolis Decoy Show
DESCRIPTION:2025 Annapolis Decoy Show sponsored by the Potomac Decoy Collectors Association and held at the Elks Lodge in Edgewater\, Maryland. Attendees can view\, buy\, sell\, and trade antique and contemporary duck decoys\, hunting and fishing items\, paintings\, prints\, and sporting art\, books\, hunting and fishing license\, shell boxes\, fishing lures\, and so much more from over 40 dealers. World-class decoy carvers from Maryland will be exhibiting and attendees can purchase their incredible works. \nContact: Chad Tragakis at (703) 593-3024 or chad.tragakis@gmail.com. \nClick here for full details. 
URL:https://reelchesapeake.com/event/2025-annapolis-decoy-show/
LOCATION:Annapolis Elks Lodge #622\, 2517 Solomons Island Road\, Edgewater\, MD\, 21037\, United States
CATEGORIES:Special Event
ATTACH;FMTTYPE=image/heic:https://reelchesapeake.com/wp-content/uploads/2025/05/delmarvadecoycollectorslogo.jpg
END:VEVENT
END:VCALENDAR