BEGIN:VCALENDAR
VERSION:2.0
PRODID:-//Reel Chesapeake - ECPv6.15.20//NONSGML v1.0//EN
CALSCALE:GREGORIAN
METHOD:PUBLISH
X-WR-CALNAME:Reel Chesapeake
X-ORIGINAL-URL:https://reelchesapeake.com
X-WR-CALDESC:Events for Reel Chesapeake
REFRESH-INTERVAL;VALUE=DURATION:PT1H
X-Robots-Tag:noindex
X-PUBLISHED-TTL:PT1H
BEGIN:VTIMEZONE
TZID:America/New_York
BEGIN:DAYLIGHT
TZOFFSETFROM:-0500
TZOFFSETTO:-0400
TZNAME:EDT
DTSTART:20240310T070000
END:DAYLIGHT
BEGIN:STANDARD
TZOFFSETFROM:-0400
TZOFFSETTO:-0500
TZNAME:EST
DTSTART:20241103T060000
END:STANDARD
BEGIN:DAYLIGHT
TZOFFSETFROM:-0500
TZOFFSETTO:-0400
TZNAME:EDT
DTSTART:20250309T070000
END:DAYLIGHT
BEGIN:STANDARD
TZOFFSETFROM:-0400
TZOFFSETTO:-0500
TZNAME:EST
DTSTART:20251102T060000
END:STANDARD
BEGIN:DAYLIGHT
TZOFFSETFROM:-0500
TZOFFSETTO:-0400
TZNAME:EDT
DTSTART:20260308T070000
END:DAYLIGHT
BEGIN:STANDARD
TZOFFSETFROM:-0400
TZOFFSETTO:-0500
TZNAME:EST
DTSTART:20261101T060000
END:STANDARD
END:VTIMEZONE
BEGIN:VEVENT
DTSTART;TZID=America/New_York:20250424T173000
DTEND;TZID=America/New_York:20250424T190000
DTSTAMP:20260421T194307
CREATED:20240227T214109Z
LAST-MODIFIED:20250409T162527Z
UID:3861-1745515800-1745521200@reelchesapeake.com
SUMMARY:State of the Rivers: Choptank
DESCRIPTION:ShoreRivers is pleased to announce the return of our highly anticipated State of the Rivers events—a series of free presentations held each spring to inform public about the current state of our Eastern Shore waterways. \nEach year\, between April—October\, ShoreRivers’ professional Riverkeepers conduct weekly tidal sampling of more than 60 sites from Cecilton to Cambridge\, then test for multiple scientific water quality parameters including dissolved oxygen\, nutrient pollution\, algae\, and clarity. These indicators reveal the overall health of our waterways and our progress toward protecting and restoring our local rivers. \nThe public is invited to learn more about the results of this testing\, with a focus on the Choptank River at this State of the Rivers presentation\, hosted by Choptank Riverkeeper Matt Pluta. Light refreshments\, including local oysters\, will be served. \nDoors open at 5:30pm for a reception of wine\, beer\, and light appetizers. The formal presentations will begin at 6pm. This event is free—no registration needed! \nClick here to learn more about this event.
URL:https://reelchesapeake.com/event/state-of-the-rivers-choptank/
LOCATION:The Packing House\, 411A Dorchester Avenue\, Cambridge\, MD\, 21613\, United States
CATEGORIES:Special Event
ATTACH;FMTTYPE=image/png:https://reelchesapeake.com/wp-content/uploads/2024/02/shorerivers_eventslogo.png
END:VEVENT
END:VCALENDAR