BEGIN:VCALENDAR
VERSION:2.0
PRODID:-//Reel Chesapeake - ECPv6.15.20//NONSGML v1.0//EN
CALSCALE:GREGORIAN
METHOD:PUBLISH
X-WR-CALNAME:Reel Chesapeake
X-ORIGINAL-URL:https://reelchesapeake.com
X-WR-CALDESC:Events for Reel Chesapeake
REFRESH-INTERVAL;VALUE=DURATION:PT1H
X-Robots-Tag:noindex
X-PUBLISHED-TTL:PT1H
BEGIN:VTIMEZONE
TZID:America/New_York
BEGIN:DAYLIGHT
TZOFFSETFROM:-0500
TZOFFSETTO:-0400
TZNAME:EDT
DTSTART:20240310T070000
END:DAYLIGHT
BEGIN:STANDARD
TZOFFSETFROM:-0400
TZOFFSETTO:-0500
TZNAME:EST
DTSTART:20241103T060000
END:STANDARD
BEGIN:DAYLIGHT
TZOFFSETFROM:-0500
TZOFFSETTO:-0400
TZNAME:EDT
DTSTART:20250309T070000
END:DAYLIGHT
BEGIN:STANDARD
TZOFFSETFROM:-0400
TZOFFSETTO:-0500
TZNAME:EST
DTSTART:20251102T060000
END:STANDARD
BEGIN:DAYLIGHT
TZOFFSETFROM:-0500
TZOFFSETTO:-0400
TZNAME:EDT
DTSTART:20260308T070000
END:DAYLIGHT
BEGIN:STANDARD
TZOFFSETFROM:-0400
TZOFFSETTO:-0500
TZNAME:EST
DTSTART:20261101T060000
END:STANDARD
END:VTIMEZONE
BEGIN:VEVENT
DTSTART;TZID=America/New_York:20250412T100000
DTEND;TZID=America/New_York:20250413T160000
DTSTAMP:20260421T194309
CREATED:20231012T204100Z
LAST-MODIFIED:20250129T200611Z
UID:2915-1744452000-1744560000@reelchesapeake.com
SUMMARY:Eastern Shore Sea Glass & Coastal Arts Festival
DESCRIPTION:The Chesapeake Bay Maritime Museum hosts the Eastern Shore Sea Glass & Coastal Arts Festival April 12th and 13th. \nA fun-filled tradition since 2011\, the Eastern Shore Sea Glass & Coastal Arts Festival highlights artisans and craftspeople who come from near and far to exhibit and sell coastal and sea-glass related jewelry\, home décor\, art\, and more. \nDuring the festival\, additional free event parking will be available at St. Michaels Middle/High School\, with a complimentary shuttle service to and from CBMM running both days. \nFor safety reasons\, non-service dogs need to be kept home during CBMM festivals\, including the Eastern Shore Sea Glass & Coastal Arts Festival. Carry-on alcohol from dock or land is prohibited.
URL:https://reelchesapeake.com/event/eastern-shore-sea-glass-coastal-arts-festival-holiday-edition/
LOCATION:Chesapeake Bay Maritime Museum\, 213 N. Talbot Street\, St. Michaels\, MD\, 21663\, United States
CATEGORIES:Festival
ATTACH;FMTTYPE=image/jpeg:https://reelchesapeake.com/wp-content/uploads/2023/10/CBMM_SeaGlass_Nov2023_1-1024x683-1-e1738181154161.jpg
END:VEVENT
END:VCALENDAR