BEGIN:VCALENDAR
VERSION:2.0
PRODID:-//Reel Chesapeake - ECPv6.15.20//NONSGML v1.0//EN
CALSCALE:GREGORIAN
METHOD:PUBLISH
X-ORIGINAL-URL:https://reelchesapeake.com
X-WR-CALDESC:Events for Reel Chesapeake
REFRESH-INTERVAL;VALUE=DURATION:PT1H
X-Robots-Tag:noindex
X-PUBLISHED-TTL:PT1H
BEGIN:VTIMEZONE
TZID:America/New_York
BEGIN:DAYLIGHT
TZOFFSETFROM:-0500
TZOFFSETTO:-0400
TZNAME:EDT
DTSTART:20240310T070000
END:DAYLIGHT
BEGIN:STANDARD
TZOFFSETFROM:-0400
TZOFFSETTO:-0500
TZNAME:EST
DTSTART:20241103T060000
END:STANDARD
BEGIN:DAYLIGHT
TZOFFSETFROM:-0500
TZOFFSETTO:-0400
TZNAME:EDT
DTSTART:20250309T070000
END:DAYLIGHT
BEGIN:STANDARD
TZOFFSETFROM:-0400
TZOFFSETTO:-0500
TZNAME:EST
DTSTART:20251102T060000
END:STANDARD
BEGIN:DAYLIGHT
TZOFFSETFROM:-0500
TZOFFSETTO:-0400
TZNAME:EDT
DTSTART:20260308T070000
END:DAYLIGHT
BEGIN:STANDARD
TZOFFSETFROM:-0400
TZOFFSETTO:-0500
TZNAME:EST
DTSTART:20261101T060000
END:STANDARD
END:VTIMEZONE
BEGIN:VEVENT
DTSTART;TZID=America/New_York:20250322T063000
DTEND;TZID=America/New_York:20250322T220000
DTSTAMP:20260421T213026
CREATED:20250319T163823Z
LAST-MODIFIED:20250319T163823Z
UID:5122-1742625000-1742680800@reelchesapeake.com
SUMMARY:Maryland Youth-Only Trout Fishing Day
DESCRIPTION:Organized by Maryland Department of Natural Resources. A trout fishing opportunity just for youth anglers! Only individuals 15 and younger may fish in certain put-and-take trout areas from 6:30 a.m. to 10 p.m. on March 22\, one week before the traditional season opening. The areas that will be open only to youth on this day are those listed as Closure 1. The designated areas are listed by county below. Youth anglers may catch and keep up to two trout each\, except brook trout\, which must be released if caught. \nClick here for full details and statewide locations.
URL:https://reelchesapeake.com/event/maryland-youth-only-trout-fishing-day/
CATEGORIES:Family,Outdoors
ATTACH;FMTTYPE=image/jpeg:https://reelchesapeake.com/wp-content/uploads/2025/01/marylanddnrlogo.jpg
END:VEVENT
BEGIN:VEVENT
DTSTART;TZID=America/New_York:20250322T120000
DTEND;TZID=America/New_York:20250322T160000
DTSTAMP:20260421T213026
CREATED:20230126T161114Z
LAST-MODIFIED:20250122T190930Z
UID:929-1742644800-1742659200@reelchesapeake.com
SUMMARY:Annapolis Oyster Roast & Sock Burning
DESCRIPTION:Join the Annapolis Maritime Museum for the best Spring party in town! The Annual Annapolis Oyster Roast & Sock Burning has roots that date back the late-1970s\, when sailors\, shipyard workers\, and friends doffed their socks and burned them to celebrate the arrival of Spring! This year’s event features live music\, plenty of libations\, all-you-can-eat oysters\, and more fun! Tickets on sale now. \nClick here for full details and to purchase tickets.
URL:https://reelchesapeake.com/event/annapolis-oyster-roast-sock-burning/
LOCATION:Annapolis Maritime Museum\, 723 Second Street\, Annapolis\, MD\, 21403\, United States
CATEGORIES:Festival,Food
ATTACH;FMTTYPE=image/jpeg:https://reelchesapeake.com/wp-content/uploads/2023/01/sockburning23-e1703079183232.jpg
END:VEVENT
END:VCALENDAR