BEGIN:VCALENDAR
VERSION:2.0
PRODID:-//Reel Chesapeake - ECPv6.15.20//NONSGML v1.0//EN
CALSCALE:GREGORIAN
METHOD:PUBLISH
X-ORIGINAL-URL:https://reelchesapeake.com
X-WR-CALDESC:Events for Reel Chesapeake
REFRESH-INTERVAL;VALUE=DURATION:PT1H
X-Robots-Tag:noindex
X-PUBLISHED-TTL:PT1H
BEGIN:VTIMEZONE
TZID:America/New_York
BEGIN:DAYLIGHT
TZOFFSETFROM:-0500
TZOFFSETTO:-0400
TZNAME:EDT
DTSTART:20240310T070000
END:DAYLIGHT
BEGIN:STANDARD
TZOFFSETFROM:-0400
TZOFFSETTO:-0500
TZNAME:EST
DTSTART:20241103T060000
END:STANDARD
BEGIN:DAYLIGHT
TZOFFSETFROM:-0500
TZOFFSETTO:-0400
TZNAME:EDT
DTSTART:20250309T070000
END:DAYLIGHT
BEGIN:STANDARD
TZOFFSETFROM:-0400
TZOFFSETTO:-0500
TZNAME:EST
DTSTART:20251102T060000
END:STANDARD
BEGIN:DAYLIGHT
TZOFFSETFROM:-0500
TZOFFSETTO:-0400
TZNAME:EDT
DTSTART:20260308T070000
END:DAYLIGHT
BEGIN:STANDARD
TZOFFSETFROM:-0400
TZOFFSETTO:-0500
TZNAME:EST
DTSTART:20261101T060000
END:STANDARD
END:VTIMEZONE
BEGIN:VEVENT
DTSTART;TZID=America/New_York:20250319T193000
DTEND;TZID=America/New_York:20250319T220000
DTSTAMP:20260421T213119
CREATED:20250131T132434Z
LAST-MODIFIED:20250131T132552Z
UID:5032-1742412600-1742421600@reelchesapeake.com
SUMMARY:2025 Fly Fishing Film Tour
DESCRIPTION:The highly anticipated 19th Annual Fly Fishing Film Tour (F3T) is back and ready with a curated selection of the best fly fishing films from around the world. Anglers\, outdoor enthusiasts\, and adventure seekers are invited to join the tour as it visits cities nationwide\, showcasing stunning cinematography\, unforgettable stories\, and the heart-pounding excitement of fly fishing.ms. \nClick here to watch the official 2025 F3T Film Trailer! \nClick here for tickets and more details. 
URL:https://reelchesapeake.com/event/2025-fly-fishing-film-tour/
LOCATION:Arlington Cinema Drafthouse\, 2903 Columbia Pike\, Arlington\, VA\, 22204\, United States
CATEGORIES:Festival,Special Event
ATTACH;FMTTYPE=image/png:https://reelchesapeake.com/wp-content/uploads/2025/01/f3t2025.png
END:VEVENT
END:VCALENDAR