BEGIN:VCALENDAR
VERSION:2.0
PRODID:-//Reel Chesapeake - ECPv6.15.20//NONSGML v1.0//EN
CALSCALE:GREGORIAN
METHOD:PUBLISH
X-ORIGINAL-URL:https://reelchesapeake.com
X-WR-CALDESC:Events for Reel Chesapeake
REFRESH-INTERVAL;VALUE=DURATION:PT1H
X-Robots-Tag:noindex
X-PUBLISHED-TTL:PT1H
BEGIN:VTIMEZONE
TZID:America/New_York
BEGIN:DAYLIGHT
TZOFFSETFROM:-0500
TZOFFSETTO:-0400
TZNAME:EDT
DTSTART:20240310T070000
END:DAYLIGHT
BEGIN:STANDARD
TZOFFSETFROM:-0400
TZOFFSETTO:-0500
TZNAME:EST
DTSTART:20241103T060000
END:STANDARD
BEGIN:DAYLIGHT
TZOFFSETFROM:-0500
TZOFFSETTO:-0400
TZNAME:EDT
DTSTART:20250309T070000
END:DAYLIGHT
BEGIN:STANDARD
TZOFFSETFROM:-0400
TZOFFSETTO:-0500
TZNAME:EST
DTSTART:20251102T060000
END:STANDARD
BEGIN:DAYLIGHT
TZOFFSETFROM:-0500
TZOFFSETTO:-0400
TZNAME:EDT
DTSTART:20260308T070000
END:DAYLIGHT
BEGIN:STANDARD
TZOFFSETFROM:-0400
TZOFFSETTO:-0500
TZNAME:EST
DTSTART:20261101T060000
END:STANDARD
END:VTIMEZONE
BEGIN:VEVENT
DTSTART;TZID=America/New_York:20250304T183000
DTEND;TZID=America/New_York:20250304T210000
DTSTAMP:20260421T213122
CREATED:20230112T222641Z
LAST-MODIFIED:20241218T222750Z
UID:799-1741113000-1741122000@reelchesapeake.com
SUMMARY:Wild & Scenic Film Festival
DESCRIPTION:The Wild & Scenic Film Festival is a one-of-a-kind fundraiser for the Alliance for the Chesapeake Bay where staff selects 10-15 short films for our audiences to enjoy. Films highlight topics related to nature\, community activism\, adventure\, conservation\, water\, energy and climate change\, wildlife\, environmental justice\, agriculture\, Native American\, and indigenous culture. Overall\, the Wild & Scenic Film Festival is designed to inspire a love for nature and activate audiences to take action in their communities through film and art. \nThis year’s event will be held at the Bowen Theater at Maryland Hall in Annapolis\, Maryland. \nClick here for full details and to purchase tickets.
URL:https://reelchesapeake.com/event/wild-scenic-film-festival-2/
LOCATION:Maryland Hall\, 801 Chase Street\, Annapolis\, MD\, 21401\, United States
CATEGORIES:Festival
ATTACH;FMTTYPE=image/jpeg:https://reelchesapeake.com/wp-content/uploads/2023/01/wsff-2023-general-banner-02-e1706624615104.jpg
END:VEVENT
END:VCALENDAR