BEGIN:VCALENDAR
VERSION:2.0
PRODID:-//Reel Chesapeake - ECPv6.15.20//NONSGML v1.0//EN
CALSCALE:GREGORIAN
METHOD:PUBLISH
X-WR-CALNAME:Reel Chesapeake
X-ORIGINAL-URL:https://reelchesapeake.com
X-WR-CALDESC:Events for Reel Chesapeake
REFRESH-INTERVAL;VALUE=DURATION:PT1H
X-Robots-Tag:noindex
X-PUBLISHED-TTL:PT1H
BEGIN:VTIMEZONE
TZID:America/New_York
BEGIN:DAYLIGHT
TZOFFSETFROM:-0500
TZOFFSETTO:-0400
TZNAME:EDT
DTSTART:20240310T070000
END:DAYLIGHT
BEGIN:STANDARD
TZOFFSETFROM:-0400
TZOFFSETTO:-0500
TZNAME:EST
DTSTART:20241103T060000
END:STANDARD
BEGIN:DAYLIGHT
TZOFFSETFROM:-0500
TZOFFSETTO:-0400
TZNAME:EDT
DTSTART:20250309T070000
END:DAYLIGHT
BEGIN:STANDARD
TZOFFSETFROM:-0400
TZOFFSETTO:-0500
TZNAME:EST
DTSTART:20251102T060000
END:STANDARD
BEGIN:DAYLIGHT
TZOFFSETFROM:-0500
TZOFFSETTO:-0400
TZNAME:EDT
DTSTART:20260308T070000
END:DAYLIGHT
BEGIN:STANDARD
TZOFFSETFROM:-0400
TZOFFSETTO:-0500
TZNAME:EST
DTSTART:20261101T060000
END:STANDARD
END:VTIMEZONE
BEGIN:VEVENT
DTSTART;TZID=America/New_York:20250206T190000
DTEND;TZID=America/New_York:20250206T203000
DTSTAMP:20260421T230003
CREATED:20250129T195010Z
LAST-MODIFIED:20250129T195010Z
UID:5019-1738868400-1738873800@reelchesapeake.com
SUMMARY:AMM Winter Lecture Series: The Royal Navy on the Chesapeake in 1814
DESCRIPTION:The Annapolis Maritime Museum holds its annual Winter Lecture Series over eight consecutive Thursday evenings at 7 p.m. from mid-January through early March. You will be challenged to question and to learn by engaging speakers on diverse topics including maritime history\, local history\, science\, and maritime art. \nFebruary 6th: A Reckless Night\, A Path to Freedom: The Royal Navy on the Chesapeake in 1814\, Presenter Dave Gendell \nClick here to register.
URL:https://reelchesapeake.com/event/amm-winter-lecture-series-the-royal-navy-on-the-chesapeake-in-1814/
LOCATION:Annapolis Maritime Museum\, 723 Second Street\, Annapolis\, MD\, 21403\, United States
CATEGORIES:Special Event
ATTACH;FMTTYPE=image/jpeg:https://reelchesapeake.com/wp-content/uploads/2025/01/annapolismaritimemuseumlogo.jpg
END:VEVENT
END:VCALENDAR