BEGIN:VCALENDAR
VERSION:2.0
PRODID:-//Reel Chesapeake - ECPv6.15.20//NONSGML v1.0//EN
CALSCALE:GREGORIAN
METHOD:PUBLISH
X-ORIGINAL-URL:https://reelchesapeake.com
X-WR-CALDESC:Events for Reel Chesapeake
REFRESH-INTERVAL;VALUE=DURATION:PT1H
X-Robots-Tag:noindex
X-PUBLISHED-TTL:PT1H
BEGIN:VTIMEZONE
TZID:America/New_York
BEGIN:DAYLIGHT
TZOFFSETFROM:-0500
TZOFFSETTO:-0400
TZNAME:EDT
DTSTART:20230312T070000
END:DAYLIGHT
BEGIN:STANDARD
TZOFFSETFROM:-0400
TZOFFSETTO:-0500
TZNAME:EST
DTSTART:20231105T060000
END:STANDARD
BEGIN:DAYLIGHT
TZOFFSETFROM:-0500
TZOFFSETTO:-0400
TZNAME:EDT
DTSTART:20240310T070000
END:DAYLIGHT
BEGIN:STANDARD
TZOFFSETFROM:-0400
TZOFFSETTO:-0500
TZNAME:EST
DTSTART:20241103T060000
END:STANDARD
BEGIN:DAYLIGHT
TZOFFSETFROM:-0500
TZOFFSETTO:-0400
TZNAME:EDT
DTSTART:20250309T070000
END:DAYLIGHT
BEGIN:STANDARD
TZOFFSETFROM:-0400
TZOFFSETTO:-0500
TZNAME:EST
DTSTART:20251102T060000
END:STANDARD
END:VTIMEZONE
BEGIN:VEVENT
DTSTART;TZID=America/New_York:20241205T180000
DTEND;TZID=America/New_York:20241205T200000
DTSTAMP:20260422T015032
CREATED:20241120T215320Z
LAST-MODIFIED:20241120T220036Z
UID:4887-1733421600-1733428800@reelchesapeake.com
SUMMARY:ASMFC Striped Bass Information Webinar
DESCRIPTION:The Atlantic States Marine Fisheries Commission(ASMFC) will host an Informational Webinar on Thursday\, December 5th at 6 p.m. to review the management options developed by the Technical Committee and provide the public with sufficient background information to inform the development and submission of public comment by December 10th. \nNo public comments will be taken at this webinar; staff can address clarifying questions as time allows but public comments will not be taken. \nTo register for the December 5 Informational Webinar\, please go to \nhttps://attendee.gotowebinar.com/register/3243414609517348697 (Webinar ID 263-766-419). \nFind out more here:  https://asmfc.org/uploads/file/672ceceapr35_AtlStripedBassBoardDecMtg.pdf \n 
URL:https://reelchesapeake.com/event/asmfc-striped-bass-information-webinar/
CATEGORIES:Special Event,Virtual
ATTACH;FMTTYPE=image/jpeg:https://reelchesapeake.com/wp-content/uploads/2024/11/asmfc_logo.jpg
END:VEVENT
END:VCALENDAR