BEGIN:VCALENDAR
VERSION:2.0
PRODID:-//Reel Chesapeake - ECPv6.15.20//NONSGML v1.0//EN
CALSCALE:GREGORIAN
METHOD:PUBLISH
X-ORIGINAL-URL:https://reelchesapeake.com
X-WR-CALDESC:Events for Reel Chesapeake
REFRESH-INTERVAL;VALUE=DURATION:PT1H
X-Robots-Tag:noindex
X-PUBLISHED-TTL:PT1H
BEGIN:VTIMEZONE
TZID:America/New_York
BEGIN:DAYLIGHT
TZOFFSETFROM:-0500
TZOFFSETTO:-0400
TZNAME:EDT
DTSTART:20230312T070000
END:DAYLIGHT
BEGIN:STANDARD
TZOFFSETFROM:-0400
TZOFFSETTO:-0500
TZNAME:EST
DTSTART:20231105T060000
END:STANDARD
BEGIN:DAYLIGHT
TZOFFSETFROM:-0500
TZOFFSETTO:-0400
TZNAME:EDT
DTSTART:20240310T070000
END:DAYLIGHT
BEGIN:STANDARD
TZOFFSETFROM:-0400
TZOFFSETTO:-0500
TZNAME:EST
DTSTART:20241103T060000
END:STANDARD
BEGIN:DAYLIGHT
TZOFFSETFROM:-0500
TZOFFSETTO:-0400
TZNAME:EDT
DTSTART:20250309T070000
END:DAYLIGHT
BEGIN:STANDARD
TZOFFSETFROM:-0400
TZOFFSETTO:-0500
TZNAME:EST
DTSTART:20251102T060000
END:STANDARD
END:VTIMEZONE
BEGIN:VEVENT
DTSTART;TZID=America/New_York:20241125T190000
DTEND;TZID=America/New_York:20241125T210000
DTSTAMP:20260422T031648
CREATED:20241120T221130Z
LAST-MODIFIED:20241120T221130Z
UID:4890-1732561200-1732568400@reelchesapeake.com
SUMMARY:SRA John Wright Speaker Series: Jennifer Wasenki
DESCRIPTION:Hosted by the Severn River Association at Cafe Mezzanotte restaurant in Severna Park\, 7 p.m. on November 25th\, the John Wright Speaker Series features local conservation and outdoors experts presenting on a variety of topics relating to the health of the Severn River and Chesapeake Bay. Presentations are free\, registration required. In person or virtual option available. Click here to register for event. \nSpeaker Bio: Jennifer Wazenski is an environmental and natural resources attorney with more than 30 years’ experience representing property owners\, businesses\, and government agencies. She has litigated and advised on many federal and State regulatory programs and led teams of attorneys in the delivery of coordinated\, strategic legal services. \nPresentation Summary: This presentation will strive to provide community members with a toolkit for effective engagement across the various forums and processes that shape environmental and natural resource decisions at the county and state levels. Focusing on strategies and tactics that apply broadly—from public hearings and permitting processes to regulatory rulemaking and local planning—participants will learn how to structure their input to be organized\, strategic\, and impactful.
URL:https://reelchesapeake.com/event/sra-john-wright-speaker-series-jennifer-wasenki/
CATEGORIES:Special Event,Virtual
ATTACH;FMTTYPE=image/png:https://reelchesapeake.com/wp-content/uploads/2024/02/sralogoforevents-e1708726153854.png
END:VEVENT
END:VCALENDAR