BEGIN:VCALENDAR
VERSION:2.0
PRODID:-//Reel Chesapeake - ECPv6.15.20//NONSGML v1.0//EN
CALSCALE:GREGORIAN
METHOD:PUBLISH
X-WR-CALNAME:Reel Chesapeake
X-ORIGINAL-URL:https://reelchesapeake.com
X-WR-CALDESC:Events for Reel Chesapeake
REFRESH-INTERVAL;VALUE=DURATION:PT1H
X-Robots-Tag:noindex
X-PUBLISHED-TTL:PT1H
BEGIN:VTIMEZONE
TZID:America/New_York
BEGIN:DAYLIGHT
TZOFFSETFROM:-0500
TZOFFSETTO:-0400
TZNAME:EDT
DTSTART:20230312T070000
END:DAYLIGHT
BEGIN:STANDARD
TZOFFSETFROM:-0400
TZOFFSETTO:-0500
TZNAME:EST
DTSTART:20231105T060000
END:STANDARD
BEGIN:DAYLIGHT
TZOFFSETFROM:-0500
TZOFFSETTO:-0400
TZNAME:EDT
DTSTART:20240310T070000
END:DAYLIGHT
BEGIN:STANDARD
TZOFFSETFROM:-0400
TZOFFSETTO:-0500
TZNAME:EST
DTSTART:20241103T060000
END:STANDARD
BEGIN:DAYLIGHT
TZOFFSETFROM:-0500
TZOFFSETTO:-0400
TZNAME:EDT
DTSTART:20250309T070000
END:DAYLIGHT
BEGIN:STANDARD
TZOFFSETFROM:-0400
TZOFFSETTO:-0500
TZNAME:EST
DTSTART:20251102T060000
END:STANDARD
END:VTIMEZONE
BEGIN:VEVENT
DTSTART;TZID=America/New_York:20241024T173000
DTEND;TZID=America/New_York:20241024T193000
DTSTAMP:20260422T044205
CREATED:20240614T154719Z
LAST-MODIFIED:20240614T154719Z
UID:4330-1729791000-1729798200@reelchesapeake.com
SUMMARY:Evening Among the Trees
DESCRIPTION:  \nThe Gunpowder Valley Conservancy (GVC) is hosting Evening Among the Trees on Thursday\, October 24th at Oregon Ridge Lodge. Join us as we honor Ann Jones’s lifetime achievement for her work in land preservation in the Gunpowder and throughout Maryland. \nWhen you spend an Evening Among the Trees\, you will enjoy: \n\nLive music\, drinks\, and delicious food from The Local\nEvent emcee\, Tom Hall\, host of WYPR’s Midday\nExciting auctions and one-of-a-kind raffles\nNetworking with the most amazing watershed protectors\, nature enthusiasts\, community leaders\, and business professionals.\n\nSeating is limited this year! Early bird tickets ($100) go on sale in mid-June. Prices go up after August 1st to $125. Your support will greatly help GVC achieve our vision of a Gunpowder Watershed with healthy lands\, healthy waterways\, and healthy communities. \nClick here for full details.
URL:https://reelchesapeake.com/event/evening-among-the-trees/
LOCATION:Oregon Ridge Park & Lodge\, 13401 Beaver Dam Road\, Cockeysville\, MD\, 21030\, United States
CATEGORIES:Charity,Special Event
ATTACH;FMTTYPE=image/jpeg:https://reelchesapeake.com/wp-content/uploads/2024/06/eveningamongtrees24.jpg
END:VEVENT
BEGIN:VEVENT
DTSTART;TZID=America/New_York:20241024T180000
DTEND;TZID=America/New_York:20241024T210000
DTSTAMP:20260422T044205
CREATED:20240729T171720Z
LAST-MODIFIED:20240729T171720Z
UID:4584-1729792800-1729803600@reelchesapeake.com
SUMMARY:35th Anniversary Conservation Celebration
DESCRIPTION:Scenic Rivers Land Trust is celebrating 35 years of protecting land in Anne Arundel County this year by throwing an anniversary party to honor the landowners\, partners\, and friends who’ve been a part of the journey so far! \nSRLT looking forward to a beautiful fall evening on the tented deck at the Philip Merrill Environmental Center where we can look out on the Chesapeake Bay from the grounds of a Scenic Rivers and Maryland Environmental Trust conservation easement. \nThe party will have festive drinks\, live soul & blues guitar from Kevin Koa\, raffles and silent auction with exciting items to bid on in support of Scenic Rivers\, tasty food\, lots of friends\, and probably a toast—or two! See you then! \nClick here for full details. 
URL:https://reelchesapeake.com/event/35th-anniversary-conservation-celebration/
LOCATION:Philip Merrill Environmental Center\, 6 Herndon Avenue\, Annapolis\, MD\, 21403\, United States
CATEGORIES:Special Event
ATTACH;FMTTYPE=image/jpeg:https://reelchesapeake.com/wp-content/uploads/2024/07/srlt35party.jpeg
END:VEVENT
END:VCALENDAR