BEGIN:VCALENDAR
VERSION:2.0
PRODID:-//Reel Chesapeake - ECPv6.15.20//NONSGML v1.0//EN
CALSCALE:GREGORIAN
METHOD:PUBLISH
X-WR-CALNAME:Reel Chesapeake
X-ORIGINAL-URL:https://reelchesapeake.com
X-WR-CALDESC:Events for Reel Chesapeake
REFRESH-INTERVAL;VALUE=DURATION:PT1H
X-Robots-Tag:noindex
X-PUBLISHED-TTL:PT1H
BEGIN:VTIMEZONE
TZID:America/New_York
BEGIN:DAYLIGHT
TZOFFSETFROM:-0500
TZOFFSETTO:-0400
TZNAME:EDT
DTSTART:20230312T070000
END:DAYLIGHT
BEGIN:STANDARD
TZOFFSETFROM:-0400
TZOFFSETTO:-0500
TZNAME:EST
DTSTART:20231105T060000
END:STANDARD
BEGIN:DAYLIGHT
TZOFFSETFROM:-0500
TZOFFSETTO:-0400
TZNAME:EDT
DTSTART:20240310T070000
END:DAYLIGHT
BEGIN:STANDARD
TZOFFSETFROM:-0400
TZOFFSETTO:-0500
TZNAME:EST
DTSTART:20241103T060000
END:STANDARD
BEGIN:DAYLIGHT
TZOFFSETFROM:-0500
TZOFFSETTO:-0400
TZNAME:EDT
DTSTART:20250309T070000
END:DAYLIGHT
BEGIN:STANDARD
TZOFFSETFROM:-0400
TZOFFSETTO:-0500
TZNAME:EST
DTSTART:20251102T060000
END:STANDARD
END:VTIMEZONE
BEGIN:VEVENT
DTSTART;TZID=America/New_York:20241012T110000
DTEND;TZID=America/New_York:20241012T160000
DTSTAMP:20260422T044204
CREATED:20240915T140458Z
LAST-MODIFIED:20240915T140458Z
UID:4820-1728730800-1728748800@reelchesapeake.com
SUMMARY:UMCES Horn Point Laboratory Open House
DESCRIPTION:The University of Maryland Center for Environmental Science’s Horn Point Laboratory invites the public to its annual free Open House on Saturday\, October 12\, 2024\, from 11:00 AM to 4:00 PM. \nThis 2024 Open House theme is “Treasure Your Bay.” Visitors will have the opportunity to explore the many reasons to treasure the Chesapeake Bay\, including the marine and human life it supports. Horn Point Laboratory’s team of scientists will share their research through fun\, interactive exhibits and activities for all ages. \nClick here for full details.
URL:https://reelchesapeake.com/event/umces-horn-point-laboratory-open-house/
LOCATION:UMCES Horn Point Laboratory\, 2020 Horns Point Rd\, Cambridge\, MD\, 21613\, United States
CATEGORIES:Special Event
ATTACH;FMTTYPE=image/jpeg:https://reelchesapeake.com/wp-content/uploads/2024/09/UMCES-logo-e1726409083976.jpg
END:VEVENT
END:VCALENDAR