BEGIN:VCALENDAR
VERSION:2.0
PRODID:-//Reel Chesapeake - ECPv6.15.20//NONSGML v1.0//EN
CALSCALE:GREGORIAN
METHOD:PUBLISH
X-WR-CALNAME:Reel Chesapeake
X-ORIGINAL-URL:https://reelchesapeake.com
X-WR-CALDESC:Events for Reel Chesapeake
REFRESH-INTERVAL;VALUE=DURATION:PT1H
X-Robots-Tag:noindex
X-PUBLISHED-TTL:PT1H
BEGIN:VTIMEZONE
TZID:America/New_York
BEGIN:DAYLIGHT
TZOFFSETFROM:-0500
TZOFFSETTO:-0400
TZNAME:EDT
DTSTART:20230312T070000
END:DAYLIGHT
BEGIN:STANDARD
TZOFFSETFROM:-0400
TZOFFSETTO:-0500
TZNAME:EST
DTSTART:20231105T060000
END:STANDARD
BEGIN:DAYLIGHT
TZOFFSETFROM:-0500
TZOFFSETTO:-0400
TZNAME:EDT
DTSTART:20240310T070000
END:DAYLIGHT
BEGIN:STANDARD
TZOFFSETFROM:-0400
TZOFFSETTO:-0500
TZNAME:EST
DTSTART:20241103T060000
END:STANDARD
BEGIN:DAYLIGHT
TZOFFSETFROM:-0500
TZOFFSETTO:-0400
TZNAME:EDT
DTSTART:20250309T070000
END:DAYLIGHT
BEGIN:STANDARD
TZOFFSETFROM:-0400
TZOFFSETTO:-0500
TZNAME:EST
DTSTART:20251102T060000
END:STANDARD
END:VTIMEZONE
BEGIN:VEVENT
DTSTART;TZID=America/New_York:20241009T080000
DTEND;TZID=America/New_York:20241011T170000
DTSTAMP:20260422T044130
CREATED:20240909T234815Z
LAST-MODIFIED:20240909T234815Z
UID:4799-1728460800-1728666000@reelchesapeake.com
SUMMARY:Maryland Outdoor Recreation Summit
DESCRIPTION:ABOUT THE SUMMIT \nThe Maryland Outdoor Recreation Summit is a space to come together and have exciting conversations on the importance of outdoor recreation to Maryland’s environment\, workforce\, quality of life and economy! \nWHO SHOULD ATTEND? \nOutdoor industry enthusiasts including non-profits\, community organizations\, private businesses\, university students\, and public decision makers. \nWHY ATTEND? \nMake new connections with outdoor industry professionals. \nExperience a new outdoor adventure. \nAttend outdoor unique trainings and workshops. \nGet inspired! \nClick here to learn full details. 
URL:https://reelchesapeake.com/event/maryland-outdoor-recreation-summit/
CATEGORIES:Expo,Outdoors,Special Event
ATTACH;FMTTYPE=image/png:https://reelchesapeake.com/wp-content/uploads/2024/09/mdoutdoorrecreationsummit-e1725925651817.png
END:VEVENT
END:VCALENDAR