BEGIN:VCALENDAR
VERSION:2.0
PRODID:-//Reel Chesapeake - ECPv6.15.20//NONSGML v1.0//EN
CALSCALE:GREGORIAN
METHOD:PUBLISH
X-ORIGINAL-URL:https://reelchesapeake.com
X-WR-CALDESC:Events for Reel Chesapeake
REFRESH-INTERVAL;VALUE=DURATION:PT1H
X-Robots-Tag:noindex
X-PUBLISHED-TTL:PT1H
BEGIN:VTIMEZONE
TZID:America/New_York
BEGIN:DAYLIGHT
TZOFFSETFROM:-0500
TZOFFSETTO:-0400
TZNAME:EDT
DTSTART:20230312T070000
END:DAYLIGHT
BEGIN:STANDARD
TZOFFSETFROM:-0400
TZOFFSETTO:-0500
TZNAME:EST
DTSTART:20231105T060000
END:STANDARD
BEGIN:DAYLIGHT
TZOFFSETFROM:-0500
TZOFFSETTO:-0400
TZNAME:EDT
DTSTART:20240310T070000
END:DAYLIGHT
BEGIN:STANDARD
TZOFFSETFROM:-0400
TZOFFSETTO:-0500
TZNAME:EST
DTSTART:20241103T060000
END:STANDARD
BEGIN:DAYLIGHT
TZOFFSETFROM:-0500
TZOFFSETTO:-0400
TZNAME:EDT
DTSTART:20250309T070000
END:DAYLIGHT
BEGIN:STANDARD
TZOFFSETFROM:-0400
TZOFFSETTO:-0500
TZNAME:EST
DTSTART:20251102T060000
END:STANDARD
END:VTIMEZONE
BEGIN:VEVENT
DTSTART;TZID=America/New_York:20240928T080000
DTEND;TZID=America/New_York:20240928T130000
DTSTAMP:20260422T055305
CREATED:20230831T124116Z
LAST-MODIFIED:20240821T171153Z
UID:2637-1727510400-1727528400@reelchesapeake.com
SUMMARY:Pasadena Sportfishing's Fall Kid's Derby
DESCRIPTION:Kid’s Derby – September 28\, 2024 @ Ft. Smallwood Park\nCasting range – hit the fish eye all kids win a prize.\nOpen classes on safety\, rigging\, baiting hooks\, and tying knots.\nFree bait and P.S.G. Volunteers will assist you with your fishing and measure your “catch”. \nTWO AGE GROUPS: (4 – 8) (9 – 15)\n– Door Prizes\n– Prizes in each age group for the 3 largest fish caught and most fish caught. \nCONTEST RULES\n\nAll contestants must bring their fishing rod & reel.\nAll contestants must check in at the registration table. (Registration time 7:30 am – 8:30 am)\nNo registrations are accepted after 8:30 am.\nNo fishing is allowed before the official contest starting time ( 8:30 am)\nEach contestant must use only one fishing rod and reel.\nParents are not allowed to fish during the contest.\nParents may help with rigging\, baiting\, and casting fishing rods only.\nParents may not assist in hooking or helping to reel in fish.\nWinning fish will be determined by overall length. (nose to the tip of tail)\nAll ties and any other decisions will be made by the Pasadena Sportfishing Group.\nFishing from the fishing pier only\n\nTWO WAYS TO REGISTER! –CLOSED\nRegister & Pay online here: REGISTER ONLINE \nRegister by mail & check by filling out the following\nform and mailing it in: REGISTER BY MAIL \nFor more information about the contest call 410 hey fish (410 439 3474) \nMail all registration forms & check to:\nPasadena Sportfishing group (or PSG)\nP.O. Box 873\, Pasadena\, MD 21123 \nNote: No walk-ins are allowed for this event / Event limited to first 75 anglers / Pre-registration(s) must be received by Sepember 8\, 2024
URL:https://reelchesapeake.com/event/pasadena-sportfishings-kids-derby/
LOCATION:Fort Smallwood Park\, 9500 Fort Smallwood Road\, Pasadena\, MD\, 21122\, United States
CATEGORIES:Family,Tournament
ATTACH;FMTTYPE=image/png:https://reelchesapeake.com/wp-content/uploads/2023/02/pasadenasportfishing1-e1703079047833.png
END:VEVENT
END:VCALENDAR