BEGIN:VCALENDAR
VERSION:2.0
PRODID:-//Reel Chesapeake - ECPv6.15.20//NONSGML v1.0//EN
CALSCALE:GREGORIAN
METHOD:PUBLISH
X-ORIGINAL-URL:https://reelchesapeake.com
X-WR-CALDESC:Events for Reel Chesapeake
REFRESH-INTERVAL;VALUE=DURATION:PT1H
X-Robots-Tag:noindex
X-PUBLISHED-TTL:PT1H
BEGIN:VTIMEZONE
TZID:America/New_York
BEGIN:DAYLIGHT
TZOFFSETFROM:-0500
TZOFFSETTO:-0400
TZNAME:EDT
DTSTART:20230312T070000
END:DAYLIGHT
BEGIN:STANDARD
TZOFFSETFROM:-0400
TZOFFSETTO:-0500
TZNAME:EST
DTSTART:20231105T060000
END:STANDARD
BEGIN:DAYLIGHT
TZOFFSETFROM:-0500
TZOFFSETTO:-0400
TZNAME:EDT
DTSTART:20240310T070000
END:DAYLIGHT
BEGIN:STANDARD
TZOFFSETFROM:-0400
TZOFFSETTO:-0500
TZNAME:EST
DTSTART:20241103T060000
END:STANDARD
BEGIN:DAYLIGHT
TZOFFSETFROM:-0500
TZOFFSETTO:-0400
TZNAME:EDT
DTSTART:20250309T070000
END:DAYLIGHT
BEGIN:STANDARD
TZOFFSETFROM:-0400
TZOFFSETTO:-0500
TZNAME:EST
DTSTART:20251102T060000
END:STANDARD
END:VTIMEZONE
BEGIN:VEVENT
DTSTART;TZID=America/New_York:20240907T060000
DTEND;TZID=America/New_York:20240907T153000
DTSTAMP:20260422T055213
CREATED:20240711T122330Z
LAST-MODIFIED:20240711T122330Z
UID:4457-1725688800-1725723000@reelchesapeake.com
SUMMARY:Lil Amp's Bent Rods Rockfish Tournament
DESCRIPTION:A benefit tournament for Not My Child (Fighting the Herion & Opiod Epidemic). \nDate:  September 7\, 2024\nRain Date:  September 8\, 2024\nRods in:  6:00 AM\nWeigh-ins and after party at Red Eye’s Dock Bar\nEarly Weigh-ins start at 2:00 PM with mandatory arrival at weigh-ins by 3:30 PM \nRegistration: $550.00 per boat with 4 anglers (+$100 per additional angler)\nRegistration Cut-Off:  August 24\, 2024\nRegistration Includes: \n\nCaptain & 4 anglers (+$100 per additional angler)\nLong-sleeve SPF tournament shirt for Captain\n1 swag bucket and admittance for Captain & 1 guest to the Captain’s Meeting Happy Hour at Red Eye’s Dock Bar on Tuesday\, September 3\, 2024 at 6pm.\n\nFor $50 extra\, you can reserve a boat slip for the day at Safe Harbor Marina (20 available) \n10 WAYS TO WIN!\nRockfish Stringer Competition\n1st Place\, 2nd Place\, 3rd Place\n$375 for Tournament Purse / $175 for Not My Child Foundation \nLive Tournament Purse Tally:  $2\,250.00 \nLargest Rockfish Catch & Release \nBrown Bag Competition sponsored by Crown Homes\, MD \n\nHeaviest Mackerel – $500.00 prize\nHeaviest Blue or Channel Cat – $500.00 prize\nHeaviest Blue Fish – $500.00 prize\nHeaviest Puppy Drum – $500.00 prize\nHeaviest White Perch – $500.00 prize\n\n(prizes for Brown Bag Competition are set and do not depend on Boat Count) \nAll fish in the Brown Bag Categories must meet DNR requirements for length. Also\, if one category is not caught the additional $500 will be applied equally to others in Brown Bag Class. \nThere will be an opportunity to sign-up for a Calcutta at the Captain’s Meeting (Calcutta not organized by Not My Child). \nClick here for full details.
URL:https://reelchesapeake.com/event/lil-amps-bent-rods-rockfish-tournament/
CATEGORIES:Charity,Tournament
ATTACH;FMTTYPE=image/png:https://reelchesapeake.com/wp-content/uploads/2024/07/bentrods24.png
END:VEVENT
BEGIN:VEVENT
DTSTART;TZID=America/New_York:20240907T060000
DTEND;TZID=America/New_York:20240907T220000
DTSTAMP:20260422T055213
CREATED:20240828T005254Z
LAST-MODIFIED:20240828T005254Z
UID:4739-1725688800-1725746400@reelchesapeake.com
SUMMARY:Reelin' 4 a Cause Charity Fishing Tournament
DESCRIPTION:Benefiting the CalvertHealth Foundation and CalvertHealth Cancer Center. It’s more than a fishing tournament\, it’s a fundraising tournament – and the Captain/team that raises the most money will be crowned winners of the Captain’s Challenge. In addition to the bragging rights for the next year\, a plaque with the Captain’s Challenge winner will be displayed in CalvertHealth Medical Center. Proceeds from Reelin’ 4 a Cause will support the advancement of cancer care at CalvertHealth\, including the oncology navigation program. \nThe team registration fee is $500 and includes one captain and four (3) anglers. All team registrations come with four (4) tickets to the Shore Party in the parking lot of the Urgent Care building in Solomons Island. \nReelin’ for a Cause is a tournament to raise money for Cancer Care at CalvertHealth. It is requested that all entries raise at least $1500 (in addition to their $500 registration fee). \nShore Party is at Spring Cove Marina in Solomons\, Maryland\, beginning at 4 p.m. \nClick here for full details and to register your angling team!
URL:https://reelchesapeake.com/event/reelin-4-a-cause-charity-fishing-tournament/
LOCATION:Spring Cove Marina\, 455 Lore Road\, Solomons\, MD\, United States
CATEGORIES:Charity,Special Event,Tournament
ATTACH;FMTTYPE=image/png:https://reelchesapeake.com/wp-content/uploads/2024/08/reelin4acause-e1724806319822.png
END:VEVENT
BEGIN:VEVENT
DTSTART;TZID=America/New_York:20240907T060000
DTEND;TZID=America/New_York:20240915T150000
DTSTAMP:20260422T055213
CREATED:20230911T135802Z
LAST-MODIFIED:20240802T133327Z
UID:2719-1725688800-1726412400@reelchesapeake.com
SUMMARY:2024 Maryland Rod & Reef Slam
DESCRIPTION:Sponsored by CBF\, Chesapeake Oyster Alliance\, and Coastal Conservation Association Maryland. \nThe Rod & Reef Slam fishing tournament is unlike any other. You don’t just win by catching the biggest fish. To celebrate the vast biodiversity oyster reefs support\, prizes are instead awarded for how many different species you catch (and release). In the event of a tie\, the winner will be determined by the size of fish caught. Anglers of all skill levels fish on a multitude of restored reef locations throughout Maryland’s portion of the Chesapeake Bay and its rivers and record their catches in the tournament app (a link to the app will be provided after registering). See our map of restored oyster reefs in Maryland’s Chesapeake Bay and tributaries. \nFishing Tournament \nSaturday\, September 7\, 2024 at 6:00 a.m.-Sunday\, September 15\, 2024 at 11:00 a.m. Registration closes September 6\, 2024. See the tournament registration page for entry fees\, times\, boundaries\, divisions\, and more. \nNOTE: A Tournament Waiver must be completed for each angler\, including youth participants\, and submitted to the Chesapeake Bay Foundation prior to fishing. A link to complete the online waiver will be provided in your registration confirmation email. Any fish caught before the waiver is received will not be recognized and will therefore be ineligible to win prizes. \nAwards and after-party will be held at CBF’s Philip Merrill Environmental Center in Annapolis\, 12 to 3 p.m. \nClick here to register and for full details.
URL:https://reelchesapeake.com/event/maryland-rod-reef-slam/
LOCATION:Philip Merrill Environmental Center\, 6 Herndon Avenue\, Annapolis\, MD\, 21403\, United States
CATEGORIES:Charity,Family,Festival,Tournament
ATTACH;FMTTYPE=image/jpeg:https://reelchesapeake.com/wp-content/uploads/2023/09/MDRR24-e1722605536956.jpg
END:VEVENT
END:VCALENDAR