BEGIN:VCALENDAR
VERSION:2.0
PRODID:-//Reel Chesapeake - ECPv6.15.20//NONSGML v1.0//EN
CALSCALE:GREGORIAN
METHOD:PUBLISH
X-ORIGINAL-URL:https://reelchesapeake.com
X-WR-CALDESC:Events for Reel Chesapeake
REFRESH-INTERVAL;VALUE=DURATION:PT1H
X-Robots-Tag:noindex
X-PUBLISHED-TTL:PT1H
BEGIN:VTIMEZONE
TZID:America/New_York
BEGIN:DAYLIGHT
TZOFFSETFROM:-0500
TZOFFSETTO:-0400
TZNAME:EDT
DTSTART:20230312T070000
END:DAYLIGHT
BEGIN:STANDARD
TZOFFSETFROM:-0400
TZOFFSETTO:-0500
TZNAME:EST
DTSTART:20231105T060000
END:STANDARD
BEGIN:DAYLIGHT
TZOFFSETFROM:-0500
TZOFFSETTO:-0400
TZNAME:EDT
DTSTART:20240310T070000
END:DAYLIGHT
BEGIN:STANDARD
TZOFFSETFROM:-0400
TZOFFSETTO:-0500
TZNAME:EST
DTSTART:20241103T060000
END:STANDARD
BEGIN:DAYLIGHT
TZOFFSETFROM:-0500
TZOFFSETTO:-0400
TZNAME:EDT
DTSTART:20250309T070000
END:DAYLIGHT
BEGIN:STANDARD
TZOFFSETFROM:-0400
TZOFFSETTO:-0500
TZNAME:EST
DTSTART:20251102T060000
END:STANDARD
END:VTIMEZONE
BEGIN:VEVENT
DTSTART;TZID=America/New_York:20240904T080000
DTEND;TZID=America/New_York:20240905T170000
DTSTAMP:20260422T055305
CREATED:20240821T165838Z
LAST-MODIFIED:20240821T165838Z
UID:4693-1725436800-1725555600@reelchesapeake.com
SUMMARY:2024 Maryland Land Conservation Conference
DESCRIPTION:The 31st annual conference is scheduled for September 4 & 5 at Crown Plaza Hotel in Annapolis\, Maryland. This year’s theme is “Gaining Ground: Plan. Connect. Communicate” and will include seminars\, workshops\, and\, even webinars for those who can’t attend in person. \nFor full details\, registration information\, and more click here.
URL:https://reelchesapeake.com/event/2024-maryland-land-conservation-conference/
CATEGORIES:Special Event
ATTACH;FMTTYPE=image/png:https://reelchesapeake.com/wp-content/uploads/2024/08/MDLCC24.png
END:VEVENT
END:VCALENDAR